BEGIN:VCALENDAR
VERSION:2.0
PRODID:-//Plone.org//NONSGML plone.app.event//EN
X-WR-TIMEZONE:Europe/Berlin
BEGIN:VEVENT
SUMMARY:Chromatin: How much Variation Do We Need?
DTSTART;TZID=Europe/Berlin:20241202T181500
DTSTAMP:20260424T003954Z
UID:67e97fdbe2624df2841cf427200880e3@www.uni-marburg.de
ATTENDEE;CN="Prof. Dr. Sandra B. Hake, Justus-Liebig-Universität Giessen"
 ;ROLE=REQ-PARTICIPANT:Prof. Dr. Sandra B. Hake, Justus-Liebig-Universität
  Giessen
CREATED:20241009T123257Z
DESCRIPTION:https://www.uni-marburg.de/de/fb16/ipc/aktuelles/events/2024/d
 phg_2024-12-02\nDPhG-Vortrag im Wintersemester 2024/25
LAST-MODIFIED:20241009T123310Z
LOCATION:Großer Hörsaal\, Institut für Pharmazeutische Chemie\, Marbach
 er Weg 10 (M03)\, 35037 Marburg
URL:https://www.uni-marburg.de/de/fb16/ipc/aktuelles/events/2024/dphg_2024
 -12-02
END:VEVENT
BEGIN:VTIMEZONE
TZID:Europe/Berlin
X-LIC-LOCATION:Europe/Berlin
BEGIN:STANDARD
DTSTART:20241027T020000
TZNAME:CET
TZOFFSETFROM:+0200
TZOFFSETTO:+0100
END:STANDARD
END:VTIMEZONE
END:VCALENDAR
