BEGIN:VCALENDAR
VERSION:2.0
PRODID:-//Plone.org//NONSGML plone.app.event//EN
X-WR-TIMEZONE:Europe/Berlin
BEGIN:VEVENT
SUMMARY:TBA
DTSTART;TZID=Europe/Berlin:20241216T181500
DTSTAMP:20260424T003959Z
UID:15eef52862df4564842d216d93df8ea4@www.uni-marburg.de
ATTENDEE;CN="Prof. Dr. Sina Oppermann, Goethe Universität Frankfurt am Ma
 in";ROLE=REQ-PARTICIPANT:Prof. Dr. Sina Oppermann, Goethe Universität Fra
 nkfurt am Main
CREATED:20241009T123544Z
DESCRIPTION:https://www.uni-marburg.de/de/fb16/ipc/aktuelles/events/2024/d
 phg_2024-12-16\nDPhG-Vortrag im Wintersemester 2024/25
LAST-MODIFIED:20241009T123615Z
LOCATION:Großer Hörsaal\, Institut für Pharmazeutische Chemie\, Marbach
 er Weg 10 (M03)\, 35037 Marburg
URL:https://www.uni-marburg.de/de/fb16/ipc/aktuelles/events/2024/dphg_2024
 -12-16
END:VEVENT
BEGIN:VTIMEZONE
TZID:Europe/Berlin
X-LIC-LOCATION:Europe/Berlin
BEGIN:STANDARD
DTSTART:20241027T020000
TZNAME:CET
TZOFFSETFROM:+0200
TZOFFSETTO:+0100
END:STANDARD
END:VTIMEZONE
END:VCALENDAR
