BEGIN:VCALENDAR
VERSION:2.0
PRODID:-//Plone.org//NONSGML plone.app.event//EN
X-WR-TIMEZONE:Europe/Berlin
BEGIN:VEVENT
SUMMARY:GPCRs as Pioneering Targets for Next-Generation Pesticides
DTSTART;TZID=Europe/Berlin:20250113T181500
DTSTAMP:20260422T023736Z
UID:4b5d9e3c046b40898d52040a800964e2@www.uni-marburg.de
ATTENDEE;CN="Dr. Necla Birgül, Boğaziçi University";ROLE=REQ-PARTICIPAN
 T:Dr. Necla Birgül, Boğaziçi University
CREATED:20241009T123818Z
DESCRIPTION:https://www.uni-marburg.de/de/fb16/ipc/aktuelles/events/2024/d
 phg_2025-01-13\nDPhG-Vortrag im Wintersemester 2024/25
LAST-MODIFIED:20241009T123850Z
LOCATION:Großer Hörsaal\, Institut für Pharmazeutische Chemie\, Marbach
 er Weg 10 (M03)\, 35037 Marburg
URL:https://www.uni-marburg.de/de/fb16/ipc/aktuelles/events/2024/dphg_2025
 -01-13
END:VEVENT
BEGIN:VTIMEZONE
TZID:Europe/Berlin
X-LIC-LOCATION:Europe/Berlin
BEGIN:STANDARD
DTSTART:20241027T020000
TZNAME:CET
TZOFFSETFROM:+0200
TZOFFSETTO:+0100
END:STANDARD
END:VTIMEZONE
END:VCALENDAR
