BEGIN:VCALENDAR
VERSION:2.0
PRODID:-//Plone.org//NONSGML plone.app.event//EN
X-WR-TIMEZONE:Europe/Berlin
BEGIN:VEVENT
SUMMARY:Hochschul-Workshop HOMÖOPATHISCHE ARZNEIMITTEL
DTSTART;TZID=Europe/Berlin:20241123T130000
DTEND;TZID=Europe/Berlin:20241123T180000
DTSTAMP:20260424T075916Z
UID:575240af8a864c1bba7d464dd665f51a@www.uni-marburg.de
CREATED:20241023T130241Z
DESCRIPTION:https://www.uni-marburg.de/de/fb16/ipc/aktuelles/events/2024/h
 ochschul-workshop-homoeopathische-arzneimittel\nan der Philipps-Universit
 ät Marburg in Zusammenarbeit mit Pharma Deutschland e. V.
LAST-MODIFIED:20241024T090654Z
LOCATION:im Großen Hörsaal des Instituts für Pharmazeutische Chemie der
  Philipps-Universität Marburg\, Gebäude B\, Erdgeschoss\, Marbacher Weg 
 10\, 35037 Marburg/Lahn\, -sowie online via Microsoft Teams
URL:https://www.uni-marburg.de/de/fb16/ipc/aktuelles/events/2024/hochschul
 -workshop-homoeopathische-arzneimittel
END:VEVENT
BEGIN:VTIMEZONE
TZID:Europe/Berlin
X-LIC-LOCATION:Europe/Berlin
BEGIN:STANDARD
DTSTART:20241027T020000
TZNAME:CET
TZOFFSETFROM:+0200
TZOFFSETTO:+0100
END:STANDARD
END:VTIMEZONE
END:VCALENDAR
