BEGIN:VCALENDAR
VERSION:2.0
PRODID:-//Plone.org//NONSGML plone.app.event//EN
X-WR-TIMEZONE:Europe/Berlin
BEGIN:VEVENT
SUMMARY:Einsatz von Nanocarriern in der photodynamischen Therapie von Tumo
 ren und bakteriellen Infektionen
DTSTART;TZID=Europe/Berlin:20250210T181500
DTSTAMP:20260422T024214Z
UID:ec7c88d2f8db4e32b8ed7bb7684a0451@www.uni-marburg.de
ATTENDEE;CN="Dr. Eduard Preis, Philipps-Universität Marburg";ROLE=REQ-PAR
 TICIPANT:Dr. Eduard Preis, Philipps-Universität Marburg
CREATED:20250130T163531Z
DESCRIPTION:https://www.uni-marburg.de/de/fb16/ipc/aktuelles/events/2025/d
 phg_2025-02-10\nDPhG-Vortrag im Wintersemester 2024/25
LAST-MODIFIED:20250130T165014Z
LOCATION:Großer Hörsaal\, Institut für Pharmazeutische Chemie\, Marbach
 er Weg 10 (M03)\, 35037 Marburg
URL:https://www.uni-marburg.de/de/fb16/ipc/aktuelles/events/2025/dphg_2025
 -02-10
END:VEVENT
BEGIN:VTIMEZONE
TZID:Europe/Berlin
X-LIC-LOCATION:Europe/Berlin
BEGIN:STANDARD
DTSTART:20241027T020000
TZNAME:CET
TZOFFSETFROM:+0200
TZOFFSETTO:+0100
END:STANDARD
END:VTIMEZONE
END:VCALENDAR
