BEGIN:VCALENDAR
VERSION:2.0
PRODID:-//Plone.org//NONSGML plone.app.event//EN
X-WR-TIMEZONE:Europe/Berlin
BEGIN:VEVENT
SUMMARY:Podiumsdiskussion ‘KI in der Pharmazie‘
DTSTART;TZID=Europe/Berlin:20250611T180000
DTSTAMP:20260422T024226Z
UID:325442443b35467fba09e8bad60e5854@www.uni-marburg.de
ATTENDEE;CN="Dr. Jakub Gunera, Merck Healthcare KGaA Darmstadt";ROLE=REQ-P
 ARTICIPANT:Dr. Jakub Gunera, Merck Healthcare KGaA Darmstadt
ATTENDEE;CN="Dr. Vitali Weitzel, CSL Behring GmbH Marburg";ROLE=REQ-PARTIC
 IPANT:Dr. Vitali Weitzel, CSL Behring GmbH Marburg
ATTENDEE;CN="Tilly Duderstadt, Nordring Apotheke Berlin";ROLE=REQ-PARTICIP
 ANT:Tilly Duderstadt, Nordring Apotheke Berlin
ATTENDEE;CN="Marc Kriesten, MBA, Glückauf Apotheke Dinslaken";ROLE=REQ-PA
 RTICIPANT:Marc Kriesten, MBA, Glückauf Apotheke Dinslaken
CREATED:20250509T063825Z
DESCRIPTION:https://www.uni-marburg.de/de/fb16/ipc/aktuelles/events/2025/d
 phg_2025-06-11\nDPhG-Vortrag im Sommersemester 2025
LAST-MODIFIED:20250509T063957Z
LOCATION:Hörsaal\, Institut für Pharmazeutische Biologie und Biotechnolo
 gie\, Robert- Koch-Straße 4 (N02)\, 35037 Marburg
URL:https://www.uni-marburg.de/de/fb16/ipc/aktuelles/events/2025/dphg_2025
 -06-11
END:VEVENT
BEGIN:VTIMEZONE
TZID:Europe/Berlin
X-LIC-LOCATION:Europe/Berlin
BEGIN:DAYLIGHT
DTSTART:20250330T030000
TZNAME:CEST
TZOFFSETFROM:+0100
TZOFFSETTO:+0200
END:DAYLIGHT
END:VTIMEZONE
END:VCALENDAR
