BEGIN:VCALENDAR
VERSION:2.0
PRODID:-//Plone.org//NONSGML plone.app.event//EN
X-WR-TIMEZONE:Europe/Berlin
BEGIN:VEVENT
SUMMARY:Ocular drug penetration – More than meets the eye?
DTSTART;TZID=Europe/Berlin:20250616T181500
DTSTAMP:20260422T024238Z
UID:eabb2274e0a2418ebe020b2547946baa@www.uni-marburg.de
ATTENDEE;CN="Prof. Ilva Rupenthal, The University of Auckland";ROLE=REQ-PA
 RTICIPANT:Prof. Ilva Rupenthal, The University of Auckland
CREATED:20250509T064146Z
DESCRIPTION:https://www.uni-marburg.de/de/fb16/ipc/aktuelles/events/2025/d
 phg_2025-06-16\nDPhG-Vortrag im Sommersemester 2025
LAST-MODIFIED:20250509T065428Z
LOCATION:Kleiner Hörsaal\, Institut für Pharmazeutische Chemie\, Marbach
 er Weg 10 (M03)\, 35037 Marburg
URL:https://www.uni-marburg.de/de/fb16/ipc/aktuelles/events/2025/dphg_2025
 -06-16
END:VEVENT
BEGIN:VTIMEZONE
TZID:Europe/Berlin
X-LIC-LOCATION:Europe/Berlin
BEGIN:DAYLIGHT
DTSTART:20250330T030000
TZNAME:CEST
TZOFFSETFROM:+0100
TZOFFSETTO:+0200
END:DAYLIGHT
END:VTIMEZONE
END:VCALENDAR
