BEGIN:VCALENDAR
VERSION:2.0
PRODID:-//Plone.org//NONSGML plone.app.event//EN
X-WR-TIMEZONE:Europe/Berlin
BEGIN:VEVENT
SUMMARY:Better sunscreen project (noch zu bestätigen)
DTSTART;TZID=Europe/Berlin:20250630T181500
DTSTAMP:20260422T120905Z
UID:0f87c0441be446009758b171876c0ab1@www.uni-marburg.de
ATTENDEE;CN="Prof. Yousuf Mohammed, The University of Queensland";ROLE=REQ
 -PARTICIPANT:Prof. Yousuf Mohammed, The University of Queensland
CREATED:20250509T064501Z
DESCRIPTION:https://www.uni-marburg.de/de/fb16/ipc/aktuelles/events/2025/d
 phg_2025-06-30\nDPhG-Vortrag im Sommersemester 2025
LAST-MODIFIED:20250509T065524Z
LOCATION:Kleiner Hörsaal\, Institut für Pharmazeutische Chemie\, Marbach
 er Weg 10 (M03)\, 35037 Marburg
URL:https://www.uni-marburg.de/de/fb16/ipc/aktuelles/events/2025/dphg_2025
 -06-30
END:VEVENT
BEGIN:VTIMEZONE
TZID:Europe/Berlin
X-LIC-LOCATION:Europe/Berlin
BEGIN:DAYLIGHT
DTSTART:20250330T030000
TZNAME:CEST
TZOFFSETFROM:+0100
TZOFFSETTO:+0200
END:DAYLIGHT
END:VTIMEZONE
END:VCALENDAR
