BEGIN:VCALENDAR
VERSION:2.0
PRODID:-//Plone.org//NONSGML plone.app.event//EN
X-WR-TIMEZONE:Europe/Berlin
BEGIN:VEVENT
SUMMARY:Pharmaceuticals as Co-Drivers of Mixture Risk in Chemical Pollutio
 n: Bridging Knowledge Gaps with AI and Omics
DTSTART;TZID=Europe/Berlin:20251110T181500
DTSTAMP:20260423T231656Z
UID:c10e85c16cb0478eac7f5faa27c87c99@www.uni-marburg.de
ATTENDEE;CN="Prof. Dr. Jörg Hackermüller, Helmholtz-Zentrum für Umweltf
 orschung GmbH";ROLE=REQ-PARTICIPANT:Prof. Dr. Jörg Hackermüller, Helmhol
 tz-Zentrum für Umweltforschung GmbH
CATEGORIES:()
CREATED:20250923T052351Z
DESCRIPTION:https://www.uni-marburg.de/de/fb16/ipc/aktuelles/events/2025/d
 phg_2025-11-10\nDPhG-Vortrag im Wintersemester 2025/26
LAST-MODIFIED:20250923T052513Z
LOCATION:Kleiner Hörsaal\, Institut für Pharmazeutische Chemie\, Marbach
 er Weg 10 (M03)\, 35037 Marburg
URL:https://www.uni-marburg.de/de/fb16/ipc/aktuelles/events/2025/dphg_2025
 -11-10
END:VEVENT
BEGIN:VTIMEZONE
TZID:Europe/Berlin
X-LIC-LOCATION:Europe/Berlin
BEGIN:STANDARD
DTSTART:20251026T020000
TZNAME:CET
TZOFFSETFROM:+0200
TZOFFSETTO:+0100
END:STANDARD
END:VTIMEZONE
END:VCALENDAR
