BEGIN:VCALENDAR
VERSION:2.0
PRODID:-//Plone.org//NONSGML plone.app.event//EN
X-WR-TIMEZONE:Europe/Berlin
BEGIN:VEVENT
SUMMARY:Biosynthetic Studies of Complex Peptide Natural Products
DTSTART;TZID=Europe/Berlin:20251124T181500
DTSTAMP:20260422T074123Z
UID:82b8125f762747dc8b267c6d28b04969@www.uni-marburg.de
ATTENDEE;CN="Prof. Dr. Max Crüsemann, Goethe-Universität Frankfurt am Ma
 in";ROLE=REQ-PARTICIPANT:Prof. Dr. Max Crüsemann, Goethe-Universität Fra
 nkfurt am Main
CREATED:20250923T052735Z
DESCRIPTION:https://www.uni-marburg.de/de/fb16/ipc/aktuelles/events/2025/d
 phg_2025-11-24\nDPhG-Vortrag im Wintersemester 2025/26
LAST-MODIFIED:20250923T053050Z
LOCATION:Kleiner Hörsaal\, Institut für Pharmazeutische Chemie\, Marbach
 er Weg 10 (M03)\, 35037 Marburg
URL:https://www.uni-marburg.de/de/fb16/ipc/aktuelles/events/2025/dphg_2025
 -11-24
END:VEVENT
BEGIN:VTIMEZONE
TZID:Europe/Berlin
X-LIC-LOCATION:Europe/Berlin
BEGIN:STANDARD
DTSTART:20251026T020000
TZNAME:CET
TZOFFSETFROM:+0200
TZOFFSETTO:+0100
END:STANDARD
END:VTIMEZONE
END:VCALENDAR
