BEGIN:VCALENDAR
VERSION:2.0
PRODID:-//Plone.org//NONSGML plone.app.event//EN
X-WR-TIMEZONE:Europe/Berlin
BEGIN:VEVENT
SUMMARY:Personalized Therapies for Rare Genetic Diseases: Drug Repurposing
  & Beyond
DTSTART;TZID=Europe/Berlin:20251208T181500
DTSTAMP:20260422T024225Z
UID:fd966c311dab40018f537d80cd0f18e4@www.uni-marburg.de
ATTENDEE;CN="Prof. Dr. Ritva Tikkanen, Justus-Liebig-Universität Gießen"
 ;ROLE=REQ-PARTICIPANT:Prof. Dr. Ritva Tikkanen, Justus-Liebig-Universität
  Gießen
CREATED:20250923T052950Z
DESCRIPTION:https://www.uni-marburg.de/de/fb16/ipc/aktuelles/events/2025/d
 phg_2025-12-08\nDPhG-Vortrag im Wintersemester 2025/26
LAST-MODIFIED:20250923T052956Z
LOCATION:Kleiner Hörsaal\, Institut für Pharmazeutische Chemie\, Marbach
 er Weg 10 (M03)\, 35037 Marburg
URL:https://www.uni-marburg.de/de/fb16/ipc/aktuelles/events/2025/dphg_2025
 -12-08
END:VEVENT
BEGIN:VTIMEZONE
TZID:Europe/Berlin
X-LIC-LOCATION:Europe/Berlin
BEGIN:STANDARD
DTSTART:20251026T020000
TZNAME:CET
TZOFFSETFROM:+0200
TZOFFSETTO:+0100
END:STANDARD
END:VTIMEZONE
END:VCALENDAR
