BEGIN:VCALENDAR
VERSION:2.0
PRODID:-//Plone.org//NONSGML plone.app.event//EN
X-WR-TIMEZONE:Europe/Berlin
BEGIN:VEVENT
SUMMARY:Developing Tools and Assays to Decode and Manipulate GPCR Signalin
 g
DTSTART;TZID=Europe/Berlin:20260309T171500
DTSTAMP:20260421T155716Z
UID:456692154bc548d6907bbd64d2731700@www.uni-marburg.de
ATTENDEE;CN="Prof. Asuka Inoue (Tohoku University/Kyoto University, Japan)
 ";ROLE=REQ-PARTICIPANT:Prof. Asuka Inoue (Tohoku University/Kyoto Universi
 ty, Japan)
CATEGORIES:()
CREATED:20260304T154530Z
DESCRIPTION:https://www.uni-marburg.de/de/fb16/ipc/aktuelles/events/2026/2
 026-03-09_asuka_inoue\n
LAST-MODIFIED:20260304T155946Z
LOCATION:Hörsaal (+1/0070)\, Ketzerbach 63
URL:https://www.uni-marburg.de/de/fb16/ipc/aktuelles/events/2026/2026-03-0
 9_asuka_inoue
END:VEVENT
BEGIN:VTIMEZONE
TZID:Europe/Berlin
X-LIC-LOCATION:Europe/Berlin
BEGIN:STANDARD
DTSTART:20251026T020000
TZNAME:CET
TZOFFSETFROM:+0200
TZOFFSETTO:+0100
END:STANDARD
END:VTIMEZONE
END:VCALENDAR
