BEGIN:VCALENDAR
VERSION:2.0
PRODID:-//Plone.org//NONSGML plone.app.event//EN
X-WR-TIMEZONE:Europe/Berlin
BEGIN:VEVENT
SUMMARY:Pharmazeutisch unterwegs in Äthiopien\, Botsuana und Tansania –
  Menschen\, Pflanzen\, Tiere\, Heiler\, Laboratorien
DTSTART;TZID=Europe/Berlin:20261231T000000
DTSTAMP:20260421T155714Z
UID:a00b1d48fb6549cfa791d977b9fbcd51@www.uni-marburg.de
ATTENDEE;CN="Prof. Dr. Peter Imming, Martin-Luther-Universität Halle-Witt
 enberg";ROLE=REQ-PARTICIPANT:Prof. Dr. Peter Imming, Martin-Luther-Univers
 ität Halle-Wittenberg
CATEGORIES:()
CREATED:20250923T053332Z
DESCRIPTION:https://www.uni-marburg.de/de/fb16/ipc/aktuelles/events/2026/d
 phg_2026-01-26\nACHTUNG: Der Vortrag von Prof. Dr.  Peter Imming muss leid
 er aufgrund der Wetterlage verschoben werden! Ein neuer Termin wird zeitna
 h bekanntgegeben.
LAST-MODIFIED:20260126T084511Z
LOCATION:Kleiner Hörsaal\, Institut für Pharmazeutische Chemie\, Marbach
 er Weg 10 (M03)\, 35037 Marburg
URL:https://www.uni-marburg.de/de/fb16/ipc/aktuelles/events/2026/dphg_2026
 -01-26
END:VEVENT
BEGIN:VTIMEZONE
TZID:Europe/Berlin
X-LIC-LOCATION:Europe/Berlin
BEGIN:STANDARD
DTSTART:20261025T020000
TZNAME:CET
TZOFFSETFROM:+0200
TZOFFSETTO:+0100
END:STANDARD
END:VTIMEZONE
END:VCALENDAR
