BEGIN:VCALENDAR
VERSION:2.0
PRODID:-//Plone.org//NONSGML plone.app.event//EN
X-WR-TIMEZONE:Europe/Berlin
BEGIN:VEVENT
SUMMARY:The Noncanonical 5-lipoxygenase Functions: Linking Lipid Signallin
 g with the Regulation of Gene Expression in Inflammation and Cancer
DTSTART;TZID=Europe/Berlin:20260216T181500
DTSTAMP:20260421T155706Z
UID:fd27ff8658f34c5084dcad39a1bdff1a@www.uni-marburg.de
ATTENDEE;CN="Prof. Dr. Dieter Steinhilber, Goethe-Universität Frankfurt a
 m Main";ROLE=REQ-PARTICIPANT:Prof. Dr. Dieter Steinhilber, Goethe-Universi
 tät Frankfurt am Main
ATTENDEE;CN=;ROLE=REQ-PARTICIPANT:
CREATED:20250923T053748Z
DESCRIPTION:https://www.uni-marburg.de/de/fb16/ipc/aktuelles/events/2026/d
 phg_2026-02-16\nDPhG-Vortrag im Wintersemester 2025/26
LAST-MODIFIED:20250923T053756Z
LOCATION:Kleiner Hörsaal\, Institut für Pharmazeutische Chemie\, Marbach
 er Weg 10 (M03)\, 35037 Marburg
URL:https://www.uni-marburg.de/de/fb16/ipc/aktuelles/events/2026/dphg_2026
 -02-16
END:VEVENT
BEGIN:VTIMEZONE
TZID:Europe/Berlin
X-LIC-LOCATION:Europe/Berlin
BEGIN:STANDARD
DTSTART:20251026T020000
TZNAME:CET
TZOFFSETFROM:+0200
TZOFFSETTO:+0100
END:STANDARD
END:VTIMEZONE
END:VCALENDAR
