BEGIN:VCALENDAR
VERSION:2.0
PRODID:-//Plone.org//NONSGML plone.app.event//EN
X-WR-TIMEZONE:Europe/Berlin
BEGIN:VEVENT
SUMMARY:Filmvorführung "Vogelperspektiven"
DTSTART;TZID=Europe/Berlin:20231205T173000
DTEND;TZID=Europe/Berlin:20231205T193000
DTSTAMP:20260425T045908Z
UID:bb3e1255d86b4b71b333f12c72ebb1a2@www.uni-marburg.de
CREATED:20230724T154102Z
DESCRIPTION:https://www.uni-marburg.de/de/fb19/mgg/aktuelles/termine-1/fil
 mvorfuehrung-im-cineplex-marburg-vogelperspektiven\n
LAST-MODIFIED:20231012T070545Z
LOCATION:Cineplex Marburg
URL:https://www.uni-marburg.de/de/fb19/mgg/aktuelles/termine-1/filmvorfueh
 rung-im-cineplex-marburg-vogelperspektiven
END:VEVENT
BEGIN:VTIMEZONE
TZID:Europe/Berlin
X-LIC-LOCATION:Europe/Berlin
BEGIN:STANDARD
DTSTART:20231029T020000
TZNAME:CET
TZOFFSETFROM:+0200
TZOFFSETTO:+0100
END:STANDARD
END:VTIMEZONE
END:VCALENDAR
