BEGIN:VCALENDAR
VERSION:2.0
PRODID:-//Plone.org//NONSGML plone.app.event//EN
X-WR-TIMEZONE:Europe/Berlin
BEGIN:VEVENT
SUMMARY:Jahresmitgliederversammlung 2024
DTSTART;TZID=Europe/Berlin:20240206T170000
DTEND;TZID=Europe/Berlin:20240206T180000
DTSTAMP:20260420T234535Z
UID:df844c25a4dd4e1bb77391c61a2ea7a5@www.uni-marburg.de
CREATED:20230724T154544Z
DESCRIPTION:https://www.uni-marburg.de/de/fb19/mgg/aktuelles/termine-1/jah
 resmitgliederversammlung-2024\nIm Anschluss an die Jahresmitgliederversamm
 lung zeigt Karl Krantz den Film: „Burgen\, Schlösser\, Adelssitze: Auf 
 den Spuren der Feudalzeit im mittelhessischen Raum".
LAST-MODIFIED:20230725T085416Z
LOCATION:Deutschhausstr. 10\, Großer Hörsaal
URL:https://www.uni-marburg.de/de/fb19/mgg/aktuelles/termine-1/jahresmitgl
 iederversammlung-2024
END:VEVENT
BEGIN:VTIMEZONE
TZID:Europe/Berlin
X-LIC-LOCATION:Europe/Berlin
BEGIN:STANDARD
DTSTART:20231029T020000
TZNAME:CET
TZOFFSETFROM:+0200
TZOFFSETTO:+0100
END:STANDARD
END:VTIMEZONE
END:VCALENDAR
