BEGIN:VCALENDAR
VERSION:2.0
PRODID:-//Plone.org//NONSGML plone.app.event//EN
X-WR-TIMEZONE:Europe/Berlin
BEGIN:VEVENT
SUMMARY:Vortrag "Rajasthan - Land der Arier und der Heiligen Kühe"
DTSTART;TZID=Europe/Berlin:20230822T183000
DTEND;TZID=Europe/Berlin:20230822T193000
DTSTAMP:20260424T101936Z
UID:2291bb000d3d4b98a3cde775c8e5782f@www.uni-marburg.de
ATTENDEE;CN="Prof. Dr. Felix-Henningsen (Gießen)";ROLE=REQ-PARTICIPANT:Pr
 of. Dr. Felix-Henningsen (Gießen)
CREATED:20230724T153059Z
DESCRIPTION:https://www.uni-marburg.de/de/fb19/mgg/aktuelles/termine-1/vor
 trag-rajasthan-land-der-arier-und-der-heiligen-kuehe\n
LAST-MODIFIED:20230724T153110Z
LOCATION:Deutschhausstr. 10\, Großer Hörsaal
URL:https://www.uni-marburg.de/de/fb19/mgg/aktuelles/termine-1/vortrag-raj
 asthan-land-der-arier-und-der-heiligen-kuehe
END:VEVENT
BEGIN:VTIMEZONE
TZID:Europe/Berlin
X-LIC-LOCATION:Europe/Berlin
BEGIN:DAYLIGHT
DTSTART:20230326T030000
TZNAME:CEST
TZOFFSETFROM:+0100
TZOFFSETTO:+0200
END:DAYLIGHT
END:VTIMEZONE
END:VCALENDAR
