BEGIN:VCALENDAR
VERSION:2.0
PRODID:-//Plone.org//NONSGML plone.app.event//EN
X-WR-TIMEZONE:Europe/Berlin
BEGIN:VEVENT
SUMMARY:Planetary Health Diet - Wandel des Essens\, aber wie? / PHD in der
  Krankenhausküche: Nachhaltigkeit und Gesundheit vereinen
DTSTART;TZID=Europe/Berlin:20241210T180000
DTEND;TZID=Europe/Berlin:20241210T195900
DTSTAMP:20260421T231532Z
UID:bf949f1c4f224a98842c7a9e45c69055@www.uni-marburg.de
ATTENDEE;CN="Dr. Elonore Heil, AG Ernährungsökologie, Justus Liebig-Univ
 ersität Gießen";ROLE=REQ-PARTICIPANT:Dr. Elonore Heil, AG Ernährungsök
 ologie, Justus Liebig-Universität Gießen
ATTENDEE;CN="Sören Kube, Projekt ,Healthy Hospital Food‘, Physicians As
 sociation for Nutrition(PAN) e.V.";ROLE=REQ-PARTICIPANT:Sören Kube, Proje
 kt ,Healthy Hospital Food‘, Physicians Association for Nutrition(PAN) e.
 V.
CREATED:20241106T130407Z
DESCRIPTION:https://www.uni-marburg.de/de/fb20/aktuelles/termine/2024-12-1
 0-ringvorlesung-klimakrise-und-gesundheit\nRingvorlesung Klimakrise und Ge
 sundheit
LAST-MODIFIED:20241114T081549Z
LOCATION:Online über BigBlueButton
URL:https://www.uni-marburg.de/de/fb20/aktuelles/termine/2024-12-10-ringvo
 rlesung-klimakrise-und-gesundheit
END:VEVENT
BEGIN:VTIMEZONE
TZID:Europe/Berlin
X-LIC-LOCATION:Europe/Berlin
BEGIN:STANDARD
DTSTART:20241027T020000
TZNAME:CET
TZOFFSETFROM:+0200
TZOFFSETTO:+0100
END:STANDARD
END:VTIMEZONE
END:VCALENDAR
