BEGIN:VCALENDAR
VERSION:2.0
PRODID:-//Plone.org//NONSGML plone.app.event//EN
X-WR-TIMEZONE:Europe/Berlin
BEGIN:VEVENT
SUMMARY:Offene Diskussion mit den Vizepräsidentinnen Prof. Dr. Korn und P
 rof. Dr. Pankuweit zu Online-Frust und Präsenzlehre
DTSTART;TZID=Europe/Berlin:20210924T180000
DTSTAMP:20260425T014105Z
UID:1a8c71ca6f9d428cbed4142b8af42d18@www.uni-marburg.de
ATTENDEE;CN="Prof. Dr. Korn, Prof. Dr. Pankuweit, Auditorium, Webteilnehme
 r";ROLE=REQ-PARTICIPANT:Prof. Dr. Korn, Prof. Dr. Pankuweit, Auditorium, W
 ebteilnehmer
CREATED:20210915T091900Z
DESCRIPTION:https://www.uni-marburg.de/de/fb20/aktuelles/termine/offene-di
 skussion-mit-den-vizepraesidentinnen-prof-dr-korn-und-prof-dr-pankuweit-zu
 -online-frust-und-praesenzlehre\nAm 24. September ab 18:00 Uhr im Audimax 
 des Hörsaalgebäudes und online
LAST-MODIFIED:20210915T091920Z
LOCATION:Audimax
URL:https://www.uni-marburg.de/de/fb20/aktuelles/termine/offene-diskussion
 -mit-den-vizepraesidentinnen-prof-dr-korn-und-prof-dr-pankuweit-zu-online-
 frust-und-praesenzlehre
END:VEVENT
BEGIN:VTIMEZONE
TZID:Europe/Berlin
X-LIC-LOCATION:Europe/Berlin
BEGIN:DAYLIGHT
DTSTART:20210328T030000
TZNAME:CEST
TZOFFSETFROM:+0100
TZOFFSETTO:+0200
END:DAYLIGHT
END:VTIMEZONE
END:VCALENDAR
