BEGIN:VCALENDAR
VERSION:2.0
PRODID:-//Plone.org//NONSGML plone.app.event//EN
X-WR-TIMEZONE:Europe/Berlin
BEGIN:VEVENT
SUMMARY:Ringvorlesung „Klimakrise und Gesundheit" - Green Hospital Initi
 ative
DTSTART;TZID=Europe/Berlin:20220111T180000
DTEND;TZID=Europe/Berlin:20220111T193000
DTSTAMP:20260424T182536Z
UID:294c74ed0cf34a888298ea7d267fd74d@www.uni-marburg.de
ATTENDEE;CN="Prof. Dr. Edda Weimann, Klinikum Schwabing, Ludwig-Maximilian
 s-Universität München";ROLE=REQ-PARTICIPANT:Prof. Dr. Edda Weimann, Klin
 ikum Schwabing, Ludwig-Maximilians-Universität München
ATTENDEE;CN="Prof. Dr. Hinnerk Wulf, Fachbereich Medizin, Philipps-Univers
 ität Marburg / Klinik für Anästhesie und Intensivtherapie, Universität
 sklinikum Gießen und Marburg";ROLE=REQ-PARTICIPANT:Prof. Dr. Hinnerk Wulf
 , Fachbereich Medizin, Philipps-Universität Marburg / Klinik für Anästh
 esie und Intensivtherapie, Universitätsklinikum Gießen und Marburg
ATTENDEE;CN="Prof. Dr. Denise Hilfiker-Kleiner, Dekanin des FB Medizin, UM
 R, Marburg";ROLE=REQ-PARTICIPANT:Prof. Dr. Denise Hilfiker-Kleiner, Dekani
 n des FB Medizin, UMR, Marburg
ATTENDEE;CN="Dr. Sylvia Heinis, Geschäftsleitung UKGM Marburg";ROLE=REQ-P
 ARTICIPANT:Dr. Sylvia Heinis, Geschäftsleitung UKGM Marburg
ATTENDEE;CN="Louis Schäfer, Health for Future ";ROLE=REQ-PARTICIPANT:Loui
 s Schäfer, Health for Future 
ATTENDEE;CN=;ROLE=REQ-PARTICIPANT:
CREATED:20211104T155946Z
DESCRIPTION:https://www.uni-marburg.de/de/fb20/aktuelles/termine/ringvorle
 sung-klimakrise-und-gesundheit-green-hospital-initiative\nGreen Hospital I
 nitiative
LAST-MODIFIED:20220106T103944Z
LOCATION:Online Webex Event
URL:https://www.uni-marburg.de/de/fb20/aktuelles/termine/ringvorlesung-kli
 makrise-und-gesundheit-green-hospital-initiative
END:VEVENT
BEGIN:VTIMEZONE
TZID:Europe/Berlin
X-LIC-LOCATION:Europe/Berlin
BEGIN:STANDARD
DTSTART:20211031T020000
TZNAME:CET
TZOFFSETFROM:+0200
TZOFFSETTO:+0100
END:STANDARD
END:VTIMEZONE
END:VCALENDAR
