BEGIN:VCALENDAR
VERSION:2.0
PRODID:-//Plone.org//NONSGML plone.app.event//EN
X-WR-TIMEZONE:Europe/Berlin
BEGIN:VEVENT
SUMMARY:Ringvorlesung „Klimakrise und Gesundheit" - Klimakrise\, was mac
 ht sie mit der Psyche?
DTSTART;TZID=Europe/Berlin:20220118T180000
DTEND;TZID=Europe/Berlin:20220118T193000
DTSTAMP:20260425T015727Z
UID:e32953a959ee44b3ac399124484fbfb6@www.uni-marburg.de
ATTENDEE;CN="Prof. Dr. Johannes Kruse, Fachbereich Medizin, Philipps-Unive
 rsität Marburg / Klinik für Psychosomatische Medizin und Psychotherapie,
  Universitätsklinikum Gießen und Marburg, Standort Marburg";ROLE=REQ-PAR
 TICIPANT:Prof. Dr. Johannes Kruse, Fachbereich Medizin, Philipps-Universit
 ät Marburg / Klinik für Psychosomatische Medizin und Psychotherapie, Uni
 versitätsklinikum Gießen und Marburg, Standort Marburg
ATTENDEE;CN="Dr. Edward Clarke, Sozialpsychologie, Fachbereich Psychologie
 , Philipps-Universität Marburg";ROLE=REQ-PARTICIPANT:Dr. Edward Clarke, S
 ozialpsychologie, Fachbereich Psychologie, Philipps-Universität Marburg
ATTENDEE;CN="Sarah Fischer, Green Office AG der Philipps-Universität Marb
 urg";ROLE=REQ-PARTICIPANT:Sarah Fischer, Green Office AG der Philipps-Univ
 ersität Marburg
ATTENDEE;CN="Luca Keunecke, Health for Future";ROLE=REQ-PARTICIPANT:Luca K
 eunecke, Health for Future
ATTENDEE;CN=;ROLE=REQ-PARTICIPANT:
CREATED:20211104T160323Z
DESCRIPTION:https://www.uni-marburg.de/de/fb20/aktuelles/termine/ringvorle
 sung-klimakrise-und-gesundheit-klimakrise-was-macht-sie-mit-der-psyche\nKl
 imakrise\, was macht sie mit der Psyche?
LAST-MODIFIED:20220113T111248Z
LOCATION:Online Webex Event
URL:https://www.uni-marburg.de/de/fb20/aktuelles/termine/ringvorlesung-kli
 makrise-und-gesundheit-klimakrise-was-macht-sie-mit-der-psyche
END:VEVENT
BEGIN:VTIMEZONE
TZID:Europe/Berlin
X-LIC-LOCATION:Europe/Berlin
BEGIN:STANDARD
DTSTART:20211031T020000
TZNAME:CET
TZOFFSETFROM:+0200
TZOFFSETTO:+0100
END:STANDARD
END:VTIMEZONE
END:VCALENDAR
