BEGIN:VCALENDAR
VERSION:2.0
PRODID:-//Plone.org//NONSGML plone.app.event//EN
X-WR-TIMEZONE:Europe/Berlin
BEGIN:VEVENT
SUMMARY:Ringvorlesung „Klimakrise und Gesundheit" - Klimakrise\, wie wan
 delt sie die Gesellschaft?
DTSTART;TZID=Europe/Berlin:20220125T180000
DTEND;TZID=Europe/Berlin:20220125T193000
DTSTAMP:20260425T133337Z
UID:9e9c6d60afb9488e9e9ae46d9b990d01@www.uni-marburg.de
ATTENDEE;CN="Prof. Dr. Claudia Traidl-Hoffmann, Direktorin Umweltmedizin, 
 Universitätsklinikum Augsburg";ROLE=REQ-PARTICIPANT:Prof. Dr. Claudia Tra
 idl-Hoffmann, Direktorin Umweltmedizin, Universitätsklinikum Augsburg
ATTENDEE;CN="Prof. Dr. Thomas Nauss, Vizepräsident für Informationsmanag
 ement der Philipps-Universität Marburg";ROLE=REQ-PARTICIPANT:Prof. Dr. Th
 omas Nauss, Vizepräsident für Informationsmanagement der Philipps-Univer
 sität Marburg
ATTENDEE;CN=;ROLE=REQ-PARTICIPANT:
CREATED:20211104T160753Z
DESCRIPTION:https://www.uni-marburg.de/de/fb20/aktuelles/termine/ringvorle
 sung-klimakrise-und-gesundheit-klimakrise-wie-wandelt-sie-die-gesellschaft
 \nKlimakrise\, wie wandelt sie die Gesellschaft?
LAST-MODIFIED:20220120T151755Z
LOCATION:Online Webex Event
URL:https://www.uni-marburg.de/de/fb20/aktuelles/termine/ringvorlesung-kli
 makrise-und-gesundheit-klimakrise-wie-wandelt-sie-die-gesellschaft
END:VEVENT
BEGIN:VTIMEZONE
TZID:Europe/Berlin
X-LIC-LOCATION:Europe/Berlin
BEGIN:STANDARD
DTSTART:20211031T020000
TZNAME:CET
TZOFFSETFROM:+0200
TZOFFSETTO:+0100
END:STANDARD
END:VTIMEZONE
END:VCALENDAR
