BEGIN:VCALENDAR
VERSION:2.0
PRODID:-//Plone.org//NONSGML plone.app.event//EN
X-WR-TIMEZONE:Europe/Berlin
BEGIN:VEVENT
SUMMARY:120 m² Lunge - unsere direkte Grenzfläche zur Welt / Extremwette
 r und Präekampsie
DTSTART;TZID=Europe/Berlin:20241119T180000
DTEND;TZID=Europe/Berlin:20241119T193000
DTSTAMP:20260425T213638Z
UID:3bcc214403f746bdad0d656d0051576b@www.uni-marburg.de
ATTENDEE;CN="Prof. Dr. Bernd Schmeck, Institut für Lungenforschung, Phili
 pps-Universität Marburg";ROLE=REQ-PARTICIPANT:Prof. Dr. Bernd Schmeck, In
 stitut für Lungenforschung, Philipps-Universität Marburg
ATTENDEE;CN="Dr. Corinna Keil, Klinik für Gynäkologie und Geburtshilfe, 
 UKGM Marburg";ROLE=REQ-PARTICIPANT:Dr. Corinna Keil, Klinik für Gynäkolo
 gie und Geburtshilfe, UKGM Marburg
CREATED:20241106T130407Z
DESCRIPTION:https://www.uni-marburg.de/de/fb20/aktuelles/termine/ringvorle
 sung-klimakrise-und-gesundheit\nRingvorlesung Klimakrise und Gesundheit
LAST-MODIFIED:20241114T080352Z
LOCATION:Online über BigBlueButton
URL:https://www.uni-marburg.de/de/fb20/aktuelles/termine/ringvorlesung-kli
 makrise-und-gesundheit
END:VEVENT
BEGIN:VTIMEZONE
TZID:Europe/Berlin
X-LIC-LOCATION:Europe/Berlin
BEGIN:STANDARD
DTSTART:20241027T020000
TZNAME:CET
TZOFFSETFROM:+0200
TZOFFSETTO:+0100
END:STANDARD
END:VTIMEZONE
END:VCALENDAR
