BEGIN:VCALENDAR
VERSION:2.0
PRODID:-//Plone.org//NONSGML plone.app.event//EN
X-WR-TIMEZONE:Europe/Berlin
BEGIN:VEVENT
SUMMARY:Virologisch-parasitologisches Seminar - Dr. Angelika Rambold
DTSTART;TZID=Europe/Berlin:20260625T130000
DTSTAMP:20260425T043903Z
UID:d0bac7038e2147aa970103a78e050481@www.uni-marburg.de
ATTENDEE;CN="Dr. Angelika Rambold ";ROLE=REQ-PARTICIPANT:Dr. Angelika Ramb
 old 
ATTENDEE;CN="Institute of Medical Biochemistry, ZMBE";ROLE=REQ-PARTICIPANT
 :Institute of Medical Biochemistry, ZMBE
ATTENDEE;CN="University of Münster";ROLE=REQ-PARTICIPANT:University of M
 ünster
ATTENDEE;CN=;ROLE=REQ-PARTICIPANT:
CATEGORIES:()
CREATED:20190403T091804Z
DESCRIPTION:https://www.uni-marburg.de/de/fb20/bereiche/ziei/virologie/akt
 uelles/termine-des-institutes-fuer-virologie-marburg/virologisch-parasitol
 ogisches-seminar-dr-angelika-rambold\nzum Thema: “tba”
LAST-MODIFIED:20260415T085357Z
LOCATION:Seminarraum 00/63300\, BMFZ\, Institut für Virologie\, Hans-Meer
 wein-Str. 2
URL:https://www.uni-marburg.de/de/fb20/bereiche/ziei/virologie/aktuelles/t
 ermine-des-institutes-fuer-virologie-marburg/virologisch-parasitologisches
 -seminar-dr-angelika-rambold
END:VEVENT
BEGIN:VTIMEZONE
TZID:Europe/Berlin
X-LIC-LOCATION:Europe/Berlin
BEGIN:DAYLIGHT
DTSTART:20260329T030000
TZNAME:CEST
TZOFFSETFROM:+0100
TZOFFSETTO:+0200
END:DAYLIGHT
END:VTIMEZONE
END:VCALENDAR
