BEGIN:VCALENDAR
VERSION:2.0
PRODID:-//Plone.org//NONSGML plone.app.event//EN
X-WR-TIMEZONE:Europe/Berlin
BEGIN:VEVENT
SUMMARY:Virologisch-parasitologisches Seminar - Dr. Francoise Debierre-Gro
 ckiego
DTSTART;TZID=Europe/Berlin:20251023T130000
DTSTAMP:20260426T044852Z
UID:eed3382972554f38aad94b84db8dd68b@www.uni-marburg.de
ATTENDEE;CN="Dr. Françoise Debierre-Grockiego";ROLE=REQ-PARTICIPANT:Dr. F
 rançoise Debierre-Grockiego
ATTENDEE;CN="Maître de conférences Faculté de Pharmacie - Tours, Frankr
 eich";ROLE=REQ-PARTICIPANT:Maître de conférences Faculté de Pharmacie -
  Tours, Frankreich
CATEGORIES:()
CREATED:20190403T092039Z
DESCRIPTION:https://www.uni-marburg.de/de/fb20/bereiche/ziei/virologie/akt
 uelles/termine-des-institutes-fuer-virologie-marburg/virologisch-parasitol
 ogisches-seminar-dr-toni-luise-meister\nzum Thema: Development of a subuni
 t vaccine against bovine besnoitiosis
LAST-MODIFIED:20251021T061704Z
LOCATION:Online
URL:https://www.uni-marburg.de/de/fb20/bereiche/ziei/virologie/aktuelles/t
 ermine-des-institutes-fuer-virologie-marburg/virologisch-parasitologisches
 -seminar-dr-toni-luise-meister
END:VEVENT
BEGIN:VTIMEZONE
TZID:Europe/Berlin
X-LIC-LOCATION:Europe/Berlin
BEGIN:DAYLIGHT
DTSTART:20250330T030000
TZNAME:CEST
TZOFFSETFROM:+0100
TZOFFSETTO:+0200
END:DAYLIGHT
END:VTIMEZONE
END:VCALENDAR
