BEGIN:VCALENDAR
VERSION:2.0
PRODID:-//Plone.org//NONSGML plone.app.event//EN
X-WR-TIMEZONE:Europe/Berlin
BEGIN:VEVENT
SUMMARY:Virologisch-parasitologisches Seminar - Sophia Hercher
DTSTART;TZID=Europe/Berlin:20260618T130000
DTSTAMP:20260425T211437Z
UID:ee76efdf433b49f6abf668b58b42d519@www.uni-marburg.de
ATTENDEE;CN="Sophia Hercher";ROLE=REQ-PARTICIPANT:Sophia Hercher
ATTENDEE;CN="Referentin für digitale Lehrentwicklung";ROLE=REQ-PARTICIPAN
 T:Referentin für digitale Lehrentwicklung
ATTENDEE;CN="Referat B6 – Lehrentwicklung und Hochschuldidaktik";ROLE=RE
 Q-PARTICIPANT:Referat B6 – Lehrentwicklung und Hochschuldidaktik
ATTENDEE;CN="Universität Marburg";ROLE=REQ-PARTICIPANT:Universität Marbu
 rg
ATTENDEE;CN=;ROLE=REQ-PARTICIPANT:
ATTENDEE;CN=;ROLE=REQ-PARTICIPANT:
ATTENDEE;CN=;ROLE=REQ-PARTICIPANT:
ATTENDEE;CN=;ROLE=REQ-PARTICIPANT:
CATEGORIES:()
CREATED:20190403T091559Z
DESCRIPTION:https://www.uni-marburg.de/de/fb20/bereiche/ziei/virologie/akt
 uelles/termine-des-institutes-fuer-virologie-marburg/virologisch-parasitol
 ogisches-seminar-sophia-hercher\nzum Thema "Generative KI an der Universit
 ät Marburg: Chancen\, Risiken und Leitlinien"
LAST-MODIFIED:20260415T082919Z
LOCATION:Seminarraum 00/63300\, BMFZ\, Institut für Virologie\, Hans-Meer
 wein-Str. 2
URL:https://www.uni-marburg.de/de/fb20/bereiche/ziei/virologie/aktuelles/t
 ermine-des-institutes-fuer-virologie-marburg/virologisch-parasitologisches
 -seminar-sophia-hercher
END:VEVENT
BEGIN:VTIMEZONE
TZID:Europe/Berlin
X-LIC-LOCATION:Europe/Berlin
BEGIN:DAYLIGHT
DTSTART:20260329T030000
TZNAME:CEST
TZOFFSETFROM:+0100
TZOFFSETTO:+0200
END:DAYLIGHT
END:VTIMEZONE
END:VCALENDAR
