BEGIN:VCALENDAR
VERSION:2.0
PRODID:-//Plone.org//NONSGML plone.app.event//EN
X-WR-TIMEZONE:Europe/Berlin
BEGIN:VEVENT
SUMMARY:Vorlesung Open Science in der Psychologie
DTSTART;TZID=Europe/Berlin:20260601T100000
DTEND;TZID=Europe/Berlin:20260601T120000
DTSTAMP:20260425T055438Z
UID:dc9be2a8f99e4d21a8f45fffa1ee587e@www.uni-marburg.de
ATTENDEE;CN="Dr. Lydia Riedl";ROLE=REQ-PARTICIPANT:Dr. Lydia Riedl
CATEGORIES:()
CREATED:20250522T102646Z
DESCRIPTION:https://www.uni-marburg.de/de/forschung/kontakt/eresearch/aktu
 elles/termine/copy_of_vorlesung-open-science-in-der-psychologie\nFür den 
 Fachbereich Psychologie bietet Dr. Lydia Riedl vom eresearch Servicezentru
 m am 1. Juni 2026 von 10 bis 12h eine Vorlesung zu Open Science an.
LAST-MODIFIED:20260415T162626Z
LOCATION:Philipps-Universität Marburg\, FB
URL:https://www.uni-marburg.de/de/forschung/kontakt/eresearch/aktuelles/te
 rmine/copy_of_vorlesung-open-science-in-der-psychologie
END:VEVENT
BEGIN:VTIMEZONE
TZID:Europe/Berlin
X-LIC-LOCATION:Europe/Berlin
BEGIN:DAYLIGHT
DTSTART:20260329T030000
TZNAME:CEST
TZOFFSETFROM:+0100
TZOFFSETTO:+0200
END:DAYLIGHT
END:VTIMEZONE
END:VCALENDAR
