BEGIN:VCALENDAR
VERSION:2.0
PRODID:-//Plone.org//NONSGML plone.app.event//EN
X-WR-TIMEZONE:Europe/Berlin
BEGIN:VEVENT
SUMMARY:Promovierenden- und Postdoc-Treffen 2023
DTSTART;TZID=Europe/Berlin:20231107T133000
DTSTAMP:20260426T024444Z
UID:d9023c04c85f49e0af68ba23334c7474@www.uni-marburg.de
CREATED:20231002T113106Z
DESCRIPTION:https://www.uni-marburg.de/de/forschung/talente/aktuelles/term
 ine/promovierenden-und-postdoc-treffen-2023\nDas jährliche Promovierenden
 - und Postdoc-Treffen bietet jungen Marburger Forscherinnen und Forschern 
 die Gelegenheit\, sich fächerübergreifend zu vernetzen und ihr Skillset 
 zu erweitern. \n2023 steht das Thema „Internationalisierung“ im Fokus 
 der Veranstaltung.
LAST-MODIFIED:20231102T143842Z
LOCATION:Vortragsraum und Foyer des Center for Synthetic Microbiology (SYN
 MIKRO) (Karl-von-Frisch-Str. 14)
URL:https://www.uni-marburg.de/de/forschung/talente/aktuelles/termine/prom
 ovierenden-und-postdoc-treffen-2023
END:VEVENT
BEGIN:VTIMEZONE
TZID:Europe/Berlin
X-LIC-LOCATION:Europe/Berlin
BEGIN:STANDARD
DTSTART:20231029T020000
TZNAME:CET
TZOFFSETFROM:+0200
TZOFFSETTO:+0100
END:STANDARD
END:VTIMEZONE
END:VCALENDAR
