BEGIN:VCALENDAR
VERSION:2.0
PRODID:-//Plone.org//NONSGML plone.app.event//EN
X-WR-TIMEZONE:Europe/Berlin
BEGIN:VEVENT
SUMMARY:ARCHITEKTUR – FOTOGRAFIE
DTSTART;TZID=Europe/Berlin:20111110T093000
DTEND;TZID=Europe/Berlin:20111112T130000
DTSTAMP:20260424T223054Z
UID:86db45d739984b14b59b20df535b42db@www.uni-marburg.de
CREATED:20180820T120052Z
DESCRIPTION:https://www.uni-marburg.de/de/fotomarburg/aktuelles/termine/ar
 chitektur-fotografie\nFotografie als Darstellungs-\, Entwurfs- und Gestalt
 ungsmedium der Architektur im 20. und 21. Jahrhundert
LAST-MODIFIED:20180820T120053Z
LOCATION:Internationale Tagung. Deutsches Dokumentationszentrum für Kunst
 geschichte – Bildarchiv Foto Marburg
URL:https://www.uni-marburg.de/de/fotomarburg/aktuelles/termine/architektu
 r-fotografie
END:VEVENT
BEGIN:VTIMEZONE
TZID:Europe/Berlin
X-LIC-LOCATION:Europe/Berlin
BEGIN:STANDARD
DTSTART:20111030T020000
TZNAME:CET
TZOFFSETFROM:+0200
TZOFFSETTO:+0100
END:STANDARD
END:VTIMEZONE
END:VCALENDAR
