BEGIN:VCALENDAR
VERSION:2.0
PRODID:-//Plone.org//NONSGML plone.app.event//EN
X-WR-TIMEZONE:Europe/Berlin
BEGIN:VEVENT
SUMMARY:Die barocke Deckenmalerei und die Begleitmedien der Repräsentatio
 n – Perspektiven der Produktion und Rezeption
DTSTART;TZID=Europe/Berlin:20221005T171500
DTEND;TZID=Europe/Berlin:20221009T173000
DTSTAMP:20260424T222919Z
UID:13510a43c2ae4f9484878277b5f785ad@www.uni-marburg.de
CREATED:20220929T074335Z
DESCRIPTION:https://www.uni-marburg.de/de/fotomarburg/aktuelles/termine/ba
 rocke_deckenmalerei\nInternationale Tagung des Akademienprojekts „Corpus
  der barocken Deckenmalerei in Deutschland“ (CbDD)\, 5. – 9. Oktober 2
 022
LAST-MODIFIED:20220929T075346Z
LOCATION:Landgrafensaal\,  Hessisches Staatsarchiv Marburg\, Friedrichspla
 tz 15\, 35037 Marburg
URL:https://www.uni-marburg.de/de/fotomarburg/aktuelles/termine/barocke_de
 ckenmalerei
END:VEVENT
BEGIN:VTIMEZONE
TZID:Europe/Berlin
X-LIC-LOCATION:Europe/Berlin
BEGIN:DAYLIGHT
DTSTART:20220327T030000
TZNAME:CEST
TZOFFSETFROM:+0100
TZOFFSETTO:+0200
END:DAYLIGHT
END:VTIMEZONE
END:VCALENDAR
