BEGIN:VCALENDAR
VERSION:2.0
PRODID:-//Plone.org//NONSGML plone.app.event//EN
X-WR-TIMEZONE:Europe/Berlin
BEGIN:VEVENT
SUMMARY:Campus Marburg 2013
DTSTART;TZID=Europe/Berlin:20131115T150000
DTEND;TZID=Europe/Berlin:20131115T230000
DTSTAMP:20260424T223016Z
UID:a8ecb14e45f44634b5fa27561304e4da@www.uni-marburg.de
CREATED:20180820T093054Z
DESCRIPTION:https://www.uni-marburg.de/de/fotomarburg/aktuelles/termine/ca
 mpus-marburg-2013\nDas Deutsche Dokumentationszentrum für Kunstgeschichte
  - Bildarchiv Foto Marburg beteiligt sich an der Aktion "Campus Marburg 20
 13" mit der Ausstellung "Monumente im Bild - 100 Jahre Foto Marburg"
LAST-MODIFIED:20180820T093233Z
LOCATION:Kunstmuseum\, Biegenstraße 11\, 35037 Marburg
URL:https://www.uni-marburg.de/de/fotomarburg/aktuelles/termine/campus-mar
 burg-2013
END:VEVENT
BEGIN:VTIMEZONE
TZID:Europe/Berlin
X-LIC-LOCATION:Europe/Berlin
BEGIN:STANDARD
DTSTART:20131027T020000
TZNAME:CET
TZOFFSETFROM:+0200
TZOFFSETTO:+0100
END:STANDARD
END:VTIMEZONE
END:VCALENDAR
