BEGIN:VCALENDAR
VERSION:2.0
PRODID:-//Plone.org//NONSGML plone.app.event//EN
X-WR-TIMEZONE:Europe/Berlin
BEGIN:VEVENT
SUMMARY:CFP: Sprache und Topik populärer Kunstgeschichte (Siegen\, 16-18 
 Apr 2015)
DTSTART;TZID=Europe/Berlin:20150416T090000
DTEND;TZID=Europe/Berlin:20150418T200000
DTSTAMP:20260424T223053Z
UID:7fa215e6f7cf4ca4b44440a55cdae7a2@www.uni-marburg.de
CREATED:20180820T092407Z
DESCRIPTION:https://www.uni-marburg.de/de/fotomarburg/aktuelles/termine/cf
 p-sprache-und-topik-populaerer-kunstgeschichte-siegen-16-18-apr-2015\nWork
 shop des Lehrstuhls für Kunstgeschichte der Universität Siegen in Kooper
 ation mit dem Deutschen Dokumentationszentrum für Kunstgeschichte – Bil
 darchiv Foto Marburg\, 16.-18. April 2015
LAST-MODIFIED:20180820T092408Z
LOCATION:Museum für Gegenwartskunst Siegen
URL:https://www.uni-marburg.de/de/fotomarburg/aktuelles/termine/cfp-sprach
 e-und-topik-populaerer-kunstgeschichte-siegen-16-18-apr-2015
END:VEVENT
BEGIN:VTIMEZONE
TZID:Europe/Berlin
X-LIC-LOCATION:Europe/Berlin
BEGIN:DAYLIGHT
DTSTART:20150329T030000
TZNAME:CEST
TZOFFSETFROM:+0100
TZOFFSETTO:+0200
END:DAYLIGHT
END:VTIMEZONE
END:VCALENDAR
