BEGIN:VCALENDAR
VERSION:2.0
PRODID:-//Plone.org//NONSGML plone.app.event//EN
X-WR-TIMEZONE:Europe/Berlin
BEGIN:VEVENT
SUMMARY:Das politische Bild. Kolloquium mit Abendvortrag
DTSTART;TZID=Europe/Berlin:20100623T160000
DTEND;TZID=Europe/Berlin:20100623T200000
DTSTAMP:20260424T223056Z
UID:5eb2ca3f35554973ac71d3086b6bfaaf@www.uni-marburg.de
ATTENDEE;CN="Dr. Paula Diehl, Prof. Dr. Wilhelm Hofmann, Prof. Dr. (em.) M
 artin Warnke";ROLE=REQ-PARTICIPANT:Dr. Paula Diehl, Prof. Dr. Wilhelm Hofm
 ann, Prof. Dr. (em.) Martin Warnke
CREATED:20180821T075430Z
DESCRIPTION:https://www.uni-marburg.de/de/fotomarburg/aktuelles/termine/da
 s-politische-bild-kolloquium-mit-abendvortrag\n
LAST-MODIFIED:20180821T075430Z
LOCATION:Ernst-von-Hülsen-Haus\, Biegenstraße 11\, Marburg
URL:https://www.uni-marburg.de/de/fotomarburg/aktuelles/termine/das-politi
 sche-bild-kolloquium-mit-abendvortrag
END:VEVENT
BEGIN:VTIMEZONE
TZID:Europe/Berlin
X-LIC-LOCATION:Europe/Berlin
BEGIN:DAYLIGHT
DTSTART:20100328T030000
TZNAME:CEST
TZOFFSETFROM:+0100
TZOFFSETTO:+0200
END:DAYLIGHT
END:VTIMEZONE
END:VCALENDAR
