BEGIN:VCALENDAR
VERSION:2.0
PRODID:-//Plone.org//NONSGML plone.app.event//EN
X-WR-TIMEZONE:Europe/Berlin
BEGIN:VEVENT
SUMMARY:Das virtuelle Panorama. Fotografie als intermediale Praxis in der 
 zeitgenössischen Bildkultur
DTSTART;TZID=Europe/Berlin:20150723T180000
DTEND;TZID=Europe/Berlin:20150723T200000
DTSTAMP:20260425T131243Z
UID:c399da7bf2474a6c83ec808b8e627c69@www.uni-marburg.de
ATTENDEE;CN="Alexander Streitberger (Université catholique de Louvain/Lie
 ven Gevaert, Research Centre for Photography)";ROLE=REQ-PARTICIPANT:Alexan
 der Streitberger (Université catholique de Louvain/Lieven Gevaert, Resear
 ch Centre for Photography)
CREATED:20180712T080139Z
DESCRIPTION:https://www.uni-marburg.de/de/fotomarburg/aktuelles/termine/da
 s-virtuelle-panorama-fotografie-als-intermediale-praxis-in-der-zeitgenoess
 ischen-bildkultur\n
LAST-MODIFIED:20180712T080139Z
LOCATION:in Frankfurt
URL:https://www.uni-marburg.de/de/fotomarburg/aktuelles/termine/das-virtue
 lle-panorama-fotografie-als-intermediale-praxis-in-der-zeitgenoessischen-b
 ildkultur
END:VEVENT
BEGIN:VTIMEZONE
TZID:Europe/Berlin
X-LIC-LOCATION:Europe/Berlin
BEGIN:DAYLIGHT
DTSTART:20150329T030000
TZNAME:CEST
TZOFFSETFROM:+0100
TZOFFSETTO:+0200
END:DAYLIGHT
END:VTIMEZONE
END:VCALENDAR
