BEGIN:VCALENDAR
VERSION:2.0
PRODID:-//Plone.org//NONSGML plone.app.event//EN
X-WR-TIMEZONE:Europe/Berlin
BEGIN:VEVENT
SUMMARY:Der Große Bau
DTSTART;TZID=Europe/Berlin:20150528T140000
DTEND;TZID=Europe/Berlin:20150530T170000
DTSTAMP:20260425T014512Z
UID:6788bee1a690480183278da5315a2e5b@www.uni-marburg.de
CREATED:20180712T083855Z
DESCRIPTION:https://www.uni-marburg.de/de/fotomarburg/aktuelles/termine/de
 r-grosse-bau\nKulturbauten und Bildungskonzepte in der Weimarer Republik
LAST-MODIFIED:20180712T084234Z
LOCATION:Tagungsort: Museum für Kunst und Kulturgeschichte der Philipps-U
 niversität Marburg\, Ernst-von-Hülsen-Haus\, Biegenstr. 11\, 35037 Marbu
 rg
URL:https://www.uni-marburg.de/de/fotomarburg/aktuelles/termine/der-grosse
 -bau
END:VEVENT
BEGIN:VTIMEZONE
TZID:Europe/Berlin
X-LIC-LOCATION:Europe/Berlin
BEGIN:DAYLIGHT
DTSTART:20150329T030000
TZNAME:CEST
TZOFFSETFROM:+0100
TZOFFSETTO:+0200
END:DAYLIGHT
END:VTIMEZONE
END:VCALENDAR
