BEGIN:VCALENDAR
VERSION:2.0
PRODID:-//Plone.org//NONSGML plone.app.event//EN
X-WR-TIMEZONE:Europe/Berlin
BEGIN:VEVENT
SUMMARY:DFG-Rundgespräch
DTSTART;TZID=Europe/Berlin:20091001T160000
DTEND;TZID=Europe/Berlin:20091003T130000
DTSTAMP:20260425T000251Z
UID:367670d738ad46e28cac5cc5694c059a@www.uni-marburg.de
CREATED:20180821T084955Z
DESCRIPTION:https://www.uni-marburg.de/de/fotomarburg/aktuelles/termine/df
 g-rundgespraech\n"Wissenschaftsgeschichte der Kunstgeschichte"
LAST-MODIFIED:20180821T084955Z
LOCATION:Ernst von Hülsen Haus\, Biegenstraße 11\, 35037 Marburg\, Tagun
 gs- und Seminarraum
URL:https://www.uni-marburg.de/de/fotomarburg/aktuelles/termine/dfg-rundge
 spraech
END:VEVENT
BEGIN:VTIMEZONE
TZID:Europe/Berlin
X-LIC-LOCATION:Europe/Berlin
BEGIN:DAYLIGHT
DTSTART:20090329T030000
TZNAME:CEST
TZOFFSETFROM:+0100
TZOFFSETTO:+0200
END:DAYLIGHT
END:VTIMEZONE
END:VCALENDAR
