BEGIN:VCALENDAR
VERSION:2.0
PRODID:-//Plone.org//NONSGML plone.app.event//EN
X-WR-TIMEZONE:Europe/Berlin
BEGIN:VEVENT
SUMMARY:Das digitale Bild – Die soziale Dimension\, politische Perspekti
 ven und ökonomische Zwänge
DTSTART;TZID=Europe/Berlin:20210428T131500
DTEND;TZID=Europe/Berlin:20210430T200000
DTSTAMP:20260425T014530Z
UID:0ab8e6ba614b4e5da414a0cd26942eb1@www.uni-marburg.de
CREATED:20210407T085907Z
DESCRIPTION:https://www.uni-marburg.de/de/fotomarburg/aktuelles/termine/di
 gi-bild-dimension\n
LAST-MODIFIED:20210407T090122Z
LOCATION:Online-Konferenz
URL:https://www.uni-marburg.de/de/fotomarburg/aktuelles/termine/digi-bild-
 dimension
END:VEVENT
BEGIN:VTIMEZONE
TZID:Europe/Berlin
X-LIC-LOCATION:Europe/Berlin
BEGIN:DAYLIGHT
DTSTART:20210328T030000
TZNAME:CEST
TZOFFSETFROM:+0100
TZOFFSETTO:+0200
END:DAYLIGHT
END:VTIMEZONE
END:VCALENDAR
