BEGIN:VCALENDAR
VERSION:2.0
PRODID:-//Plone.org//NONSGML plone.app.event//EN
X-WR-TIMEZONE:Europe/Berlin
BEGIN:VEVENT
SUMMARY:Digitale Fotografie. Kulturelle Praxen eines neuen Mediums
DTSTART;TZID=Europe/Berlin:20080919T140000
DTEND;TZID=Europe/Berlin:20080921T130000
DTSTAMP:20260425T014619Z
UID:7c04ca4fe3ef4a7281afec25d46a26ca@www.uni-marburg.de
ATTENDEE;CN="Irene Ziehe, Ulrich Hägele, Rolf Sachsse, Julia Franke, Jan 
 Brüning, Manfred Kriegelstein, Manuela Barth, Matthias H. Rauert, Susanne
  Holschbach, Torsten Näser, Christian Bracht";ROLE=REQ-PARTICIPANT:Irene 
 Ziehe, Ulrich Hägele, Rolf Sachsse, Julia Franke, Jan Brüning, Manfred K
 riegelstein, Manuela Barth, Matthias H. Rauert, Susanne Holschbach, Torste
 n Näser, Christian Bracht
CREATED:20180821T092926Z
DESCRIPTION:https://www.uni-marburg.de/de/fotomarburg/aktuelles/termine/di
 gitale-fotografie-kulturelle-praxen-eines-neuen-mediums\nArbeitstagung der
  Kommission Fotografie der DGV
LAST-MODIFIED:20180821T093117Z
LOCATION:Institut für Europäische Ethnologie/Kulturwissenschaft\, Univer
 sität Marburg
URL:https://www.uni-marburg.de/de/fotomarburg/aktuelles/termine/digitale-f
 otografie-kulturelle-praxen-eines-neuen-mediums
END:VEVENT
BEGIN:VTIMEZONE
TZID:Europe/Berlin
X-LIC-LOCATION:Europe/Berlin
BEGIN:DAYLIGHT
DTSTART:20080330T030000
TZNAME:CEST
TZOFFSETFROM:+0100
TZOFFSETTO:+0200
END:DAYLIGHT
END:VTIMEZONE
END:VCALENDAR
