BEGIN:VCALENDAR
VERSION:2.0
PRODID:-//Plone.org//NONSGML plone.app.event//EN
X-WR-TIMEZONE:Europe/Berlin
BEGIN:VEVENT
SUMMARY:Digitale Raumdarstellungen. Barocke Kunst im Kontext aktueller Zug
 riffe der spatial humanities
DTSTART;TZID=Europe/Berlin:20170403T140000
DTEND;TZID=Europe/Berlin:20170404T180000
DTSTAMP:20260425T040827Z
UID:cfeb30802cd74fcb844dd3554d074b93@www.uni-marburg.de
CREATED:20180712T075449Z
DESCRIPTION:https://www.uni-marburg.de/de/fotomarburg/aktuelles/termine/di
 gitale-raumdarstellungen-barocke-kunst-im-kontext-aktueller-zugriffe-der-s
 patial-humanities\n
LAST-MODIFIED:20180927T090150Z
LOCATION:Forschungszentrum Deutscher Sprachatlas\, Pilgrimstein 16\, Hörs
 aal (00/001) EG\, Marburg
URL:https://www.uni-marburg.de/de/fotomarburg/aktuelles/termine/digitale-r
 aumdarstellungen-barocke-kunst-im-kontext-aktueller-zugriffe-der-spatial-h
 umanities
END:VEVENT
BEGIN:VTIMEZONE
TZID:Europe/Berlin
X-LIC-LOCATION:Europe/Berlin
BEGIN:DAYLIGHT
DTSTART:20170326T030000
TZNAME:CEST
TZOFFSETFROM:+0100
TZOFFSETTO:+0200
END:DAYLIGHT
END:VTIMEZONE
END:VCALENDAR
