BEGIN:VCALENDAR
VERSION:2.0
PRODID:-//Plone.org//NONSGML plone.app.event//EN
X-WR-TIMEZONE:Europe/Berlin
BEGIN:VEVENT
SUMMARY:Doktorandenkolloquium Kunstgeschichte - POP!
DTSTART;TZID=Europe/Berlin:20120523T140000
DTEND;TZID=Europe/Berlin:20120523T190000
DTSTAMP:20260425T014558Z
UID:ca6c9756fb8b4d94b4f0ec7e1e886d29@www.uni-marburg.de
CREATED:20180820T112129Z
DESCRIPTION:https://www.uni-marburg.de/de/fotomarburg/aktuelles/termine/do
 ktorandenkolloquium-kunstgeschichte-pop\n
LAST-MODIFIED:20180820T112130Z
LOCATION:Ernst-von-Hülsen-Haus\, Hörsaal im Kunstgeschichtlichen Institu
 t Biegenstr. 11\, 35037 Marburg
URL:https://www.uni-marburg.de/de/fotomarburg/aktuelles/termine/doktorande
 nkolloquium-kunstgeschichte-pop
END:VEVENT
BEGIN:VTIMEZONE
TZID:Europe/Berlin
X-LIC-LOCATION:Europe/Berlin
BEGIN:DAYLIGHT
DTSTART:20120325T030000
TZNAME:CEST
TZOFFSETFROM:+0100
TZOFFSETTO:+0200
END:DAYLIGHT
END:VTIMEZONE
END:VCALENDAR
