BEGIN:VCALENDAR
VERSION:2.0
PRODID:-//Plone.org//NONSGML plone.app.event//EN
X-WR-TIMEZONE:Europe/Berlin
BEGIN:VEVENT
SUMMARY:Eingefärbte Kartoffelstärke auf Glasplatten
DTSTART;TZID=Europe/Berlin:20191017T100000
DTEND;TZID=Europe/Berlin:20191018T200000
DTSTAMP:20260424T223045Z
UID:a9f9dc384edf4f7c8bf0e3fc7ea77fe8@www.uni-marburg.de
CREATED:20190924T071802Z
DESCRIPTION:https://www.uni-marburg.de/de/fotomarburg/aktuelles/termine/ei
 ngefaerbte-kartoffelstaerke-auf-glasplatten\nWissenschaftlicher Workshop z
 ur Lumière’schen Autochromfotografie
LAST-MODIFIED:20190924T072619Z
LOCATION:Hessisches Staatsarchiv Marburg (HStAM)\, Friedrichsplatz 15\, 35
 037 Marburg
URL:https://www.uni-marburg.de/de/fotomarburg/aktuelles/termine/eingefaerb
 te-kartoffelstaerke-auf-glasplatten
END:VEVENT
BEGIN:VTIMEZONE
TZID:Europe/Berlin
X-LIC-LOCATION:Europe/Berlin
BEGIN:DAYLIGHT
DTSTART:20190331T030000
TZNAME:CEST
TZOFFSETFROM:+0100
TZOFFSETTO:+0200
END:DAYLIGHT
END:VTIMEZONE
END:VCALENDAR
