BEGIN:VCALENDAR
VERSION:2.0
PRODID:-//Plone.org//NONSGML plone.app.event//EN
X-WR-TIMEZONE:Europe/Berlin
BEGIN:VEVENT
SUMMARY:Erscheinungen der Fotografie
DTSTART;TZID=Europe/Berlin:20150721T130000
DTEND;TZID=Europe/Berlin:20150725T140000
DTSTAMP:20260424T224148Z
UID:3381364e5af04d888b7176b7c24f9b4e@www.uni-marburg.de
CREATED:20180712T082812Z
DESCRIPTION:https://www.uni-marburg.de/de/fotomarburg/aktuelles/termine/er
 scheinungen-der-fotografie\n
LAST-MODIFIED:20180712T082817Z
LOCATION:Tagungsraum von Foto Marburg im Ernst-von-Hülsenhaus
URL:https://www.uni-marburg.de/de/fotomarburg/aktuelles/termine/erscheinun
 gen-der-fotografie
END:VEVENT
BEGIN:VTIMEZONE
TZID:Europe/Berlin
X-LIC-LOCATION:Europe/Berlin
BEGIN:DAYLIGHT
DTSTART:20150329T030000
TZNAME:CEST
TZOFFSETFROM:+0100
TZOFFSETTO:+0200
END:DAYLIGHT
END:VTIMEZONE
END:VCALENDAR
