BEGIN:VCALENDAR
VERSION:2.0
PRODID:-//Plone.org//NONSGML plone.app.event//EN
X-WR-TIMEZONE:Europe/Berlin
BEGIN:VEVENT
SUMMARY:Ethik & Ästhetik. Die Verantwortung der Fotografie
DTSTART;TZID=Europe/Berlin:20130403T130000
DTEND;TZID=Europe/Berlin:20130406T140000
DTSTAMP:20260425T040903Z
UID:65462ccaba3347f7a8c1238df7888865@www.uni-marburg.de
CREATED:20180820T095302Z
DESCRIPTION:https://www.uni-marburg.de/de/fotomarburg/aktuelles/termine/et
 hik-aesthetik-die-verantwortung-der-fotografie\nStudientage für Fotografi
 e: Interdisziplinäres Forschungskolloquium für Promovierende
LAST-MODIFIED:20180820T095449Z
LOCATION:Tagungsraum von Foto Marburg im Ernst-von-Hülsenhaus
URL:https://www.uni-marburg.de/de/fotomarburg/aktuelles/termine/ethik-aest
 hetik-die-verantwortung-der-fotografie
END:VEVENT
BEGIN:VTIMEZONE
TZID:Europe/Berlin
X-LIC-LOCATION:Europe/Berlin
BEGIN:DAYLIGHT
DTSTART:20130331T030000
TZNAME:CEST
TZOFFSETFROM:+0100
TZOFFSETTO:+0200
END:DAYLIGHT
END:VTIMEZONE
END:VCALENDAR
