BEGIN:VCALENDAR
VERSION:2.0
PRODID:-//Plone.org//NONSGML plone.app.event//EN
X-WR-TIMEZONE:Europe/Berlin
BEGIN:VEVENT
SUMMARY:„Etwas sensationell Neues“ – Marburg um 1910 in Farbfotograf
 ien von Georg Mylius
DTSTART;VALUE=DATE:20190626
DTEND;VALUE=DATE:20200206
DTSTAMP:20260426T053039Z
UID:78f68483a5354d91bd72f1f59a81a985@www.uni-marburg.de
CREATED:20190607T080408Z
DESCRIPTION:https://www.uni-marburg.de/de/fotomarburg/aktuelles/termine/et
 was-sensationell-neues-marburg-um-1910-in-farbfotografien-von-georg-mylius
 \nAusstellung am Hessischen Staatsarchiv Marburg\, 27. Juni 2019 – 5. Fe
 bruar 2020\, Vernissage: Mittwoch\, 26. Juni 2019\, 17 Uhr
LAST-MODIFIED:20190626T080715Z
LOCATION:Hessisches Staatsarchiv Marburg
URL:https://www.uni-marburg.de/de/fotomarburg/aktuelles/termine/etwas-sens
 ationell-neues-marburg-um-1910-in-farbfotografien-von-georg-mylius
END:VEVENT
END:VCALENDAR
