BEGIN:VCALENDAR
VERSION:2.0
PRODID:-//Plone.org//NONSGML plone.app.event//EN
X-WR-TIMEZONE:Europe/Berlin
BEGIN:VEVENT
SUMMARY:Forum Wissenschaftsgeschichte der Kunstgeschichte
DTSTART;TZID=Europe/Berlin:20110323T154500
DTEND;TZID=Europe/Berlin:20110323T180000
DTSTAMP:20260424T182910Z
UID:0d2b3b93ad2a4b0a9a78ad4c85104cbb@www.uni-marburg.de
ATTENDEE;CN="Daniela Bohde, Frankfurt/Washington / Ute Engel, Mainz / Eliz
 abeth Sears, Michigan/Washington";ROLE=REQ-PARTICIPANT:Daniela Bohde, Fran
 kfurt/Washington / Ute Engel, Mainz / Elizabeth Sears, Michigan/Washington
CREATED:20180820T121544Z
DESCRIPTION:https://www.uni-marburg.de/de/fotomarburg/aktuelles/termine/fo
 rum-wissenschaftsgeschichte-der-kunstgeschichte\nMethodische Reflexionen u
 nd historiographische Probleme
LAST-MODIFIED:20180820T121545Z
LOCATION:Hörsaal 166 an der Universität Würzburg
URL:https://www.uni-marburg.de/de/fotomarburg/aktuelles/termine/forum-wiss
 enschaftsgeschichte-der-kunstgeschichte
END:VEVENT
BEGIN:VTIMEZONE
TZID:Europe/Berlin
X-LIC-LOCATION:Europe/Berlin
BEGIN:STANDARD
DTSTART:20101031T020000
TZNAME:CET
TZOFFSETFROM:+0200
TZOFFSETTO:+0100
END:STANDARD
END:VTIMEZONE
END:VCALENDAR
