BEGIN:VCALENDAR
VERSION:2.0
PRODID:-//Plone.org//NONSGML plone.app.event//EN
X-WR-TIMEZONE:Europe/Berlin
BEGIN:VEVENT
SUMMARY:Jugendstil – Transformationen der Linie als Freiheit der Form
DTSTART;TZID=Europe/Berlin:20130124T190000
DTEND;TZID=Europe/Berlin:20130125T150000
DTSTAMP:20260424T223047Z
UID:a4044a5b6e4344429449e7ff7dc84593@www.uni-marburg.de
ATTENDEE;CN="Dr. Ingeborg Becker, Michael Buchkremer, Dr. Holger Klein-Wie
 le, Prof. Dr. Hubertus Kohle, Prof. Dr. Hubert Locher, Christiane Pagel, M
 elanie Sachs, Alexandra Vinzenz";ROLE=REQ-PARTICIPANT:Dr. Ingeborg Becker,
  Michael Buchkremer, Dr. Holger Klein-Wiele, Prof. Dr. Hubertus Kohle, Pro
 f. Dr. Hubert Locher, Christiane Pagel, Melanie Sachs, Alexandra Vinzenz
CREATED:20180820T095945Z
DESCRIPTION:https://www.uni-marburg.de/de/fotomarburg/aktuelles/termine/ju
 gendstil-transformationen-der-linie-als-freiheit-der-form\nEin Arbeitsgesp
 räch im Rahmen des EU-Verbundprojektes Partage Plus Jugendstil/Art Nouvea
 u
LAST-MODIFIED:20180820T095949Z
LOCATION:Abendvortrag: Hörsaalgebäude\, Biegenstr. 14\, 35037 Marburg\, 
 Raum 00/0080 Arbeitsgespräch: Senatssaal\, Biegenstr. 12\, Erdgeschoss\, 
 35037 Marburg
URL:https://www.uni-marburg.de/de/fotomarburg/aktuelles/termine/jugendstil
 -transformationen-der-linie-als-freiheit-der-form
END:VEVENT
BEGIN:VTIMEZONE
TZID:Europe/Berlin
X-LIC-LOCATION:Europe/Berlin
BEGIN:STANDARD
DTSTART:20121028T020000
TZNAME:CET
TZOFFSETFROM:+0200
TZOFFSETTO:+0100
END:STANDARD
END:VTIMEZONE
END:VCALENDAR
