BEGIN:VCALENDAR
VERSION:2.0
PRODID:-//Plone.org//NONSGML plone.app.event//EN
X-WR-TIMEZONE:Europe/Berlin
BEGIN:VEVENT
SUMMARY:Kritische Massen – Zur Anschlussfähigkeit digitaler Bildbestän
 de an eine aktuelle kunsthistorische Forschung
DTSTART;TZID=Europe/Berlin:20131018T100000
DTEND;TZID=Europe/Berlin:20131018T180000
DTSTAMP:20260426T002108Z
UID:44412915045140459f6f06a4608ad607@www.uni-marburg.de
CREATED:20180820T094637Z
DESCRIPTION:https://www.uni-marburg.de/de/fotomarburg/aktuelles/termine/kr
 itische-massen-zur-anschlussfaehigkeit-digitaler-bildbestaende-an-eine-akt
 uelle-kunsthistorische-forschung\n
LAST-MODIFIED:20180820T094638Z
LOCATION:Seminar- und Tagungsraum. Deutsches Dokumentationszentrum für Ku
 nstgeschichte – Bildarchiv Foto Marburg
URL:https://www.uni-marburg.de/de/fotomarburg/aktuelles/termine/kritische-
 massen-zur-anschlussfaehigkeit-digitaler-bildbestaende-an-eine-aktuelle-ku
 nsthistorische-forschung
END:VEVENT
BEGIN:VTIMEZONE
TZID:Europe/Berlin
X-LIC-LOCATION:Europe/Berlin
BEGIN:DAYLIGHT
DTSTART:20130331T030000
TZNAME:CEST
TZOFFSETFROM:+0100
TZOFFSETTO:+0200
END:DAYLIGHT
END:VTIMEZONE
END:VCALENDAR
