BEGIN:VCALENDAR
VERSION:2.0
PRODID:-//Plone.org//NONSGML plone.app.event//EN
X-WR-TIMEZONE:Europe/Berlin
BEGIN:VEVENT
SUMMARY:Kunstschutz im Zweiten Weltkrieg
DTSTART;TZID=Europe/Berlin:20100121T090000
DTEND;TZID=Europe/Berlin:20100122T130000
DTSTAMP:20260424T233659Z
UID:f5f2d07f6a424857bce7ab1e1acbce10@www.uni-marburg.de
ATTENDEE;CN="Hubert Locher, Susanne Dörler, Angela Kailus (Deutsches Doku
 mentationszentrum für Kunstgeschichte – Bildarchiv Foto Marburg), Chris
 tina Kott (Institut d’histoire du temps présent IHTP, Paris), Jean-Dani
 el Pariset (Médiathèque de l’architecture et du patrimoine, Archives p
 hotographiques, Paris), Christina Ceulemans, Marie-Christine Claes (Instit
 ut royal du patrimoine artistique KIK-IRPA, Brüssel), Daniel Parello (Cor
 pus Vitrearum Medii Aevi Deutschland / Freiburg i. Br.), Christian Fuhrmei
 ster, Ralf Peters (Zentralinstitut für Kunstgeschichte, München), Marile
 na Tamassia (Soprintendenza Speciale per il Polo Museale Fiorentino, Flore
 nz), Silvia Paoli (Conservatore Civico Archivio Fotografico Castello Sforz
 esco, Milano), Regine Schallert (Bibliotheca Hertziana - Max-Planck-Instit
 ut für Kunstgeschichte, Rom), Almut Goldhahn (Kunsthistorisches Institut 
 - Max-Planck-Institut, Florenz), Andreas Buchholz (Reconnaissance Collecti
 ons, RCAHMS, Edinburgh)";ROLE=REQ-PARTICIPANT:Hubert Locher, Susanne Dörl
 er, Angela Kailus (Deutsches Dokumentationszentrum für Kunstgeschichte 
 – Bildarchiv Foto Marburg), Christina Kott (Institut d’histoire du tem
 ps présent IHTP, Paris), Jean-Daniel Pariset (Médiathèque de l’archit
 ecture et du patrimoine, Archives photographiques, Paris), Christina Ceule
 mans, Marie-Christine Claes (Institut royal du patrimoine artistique KIK-I
 RPA, Brüssel), Daniel Parello (Corpus Vitrearum Medii Aevi Deutschland / 
 Freiburg i. Br.), Christian Fuhrmeister, Ralf Peters (Zentralinstitut für
  Kunstgeschichte, München), Marilena Tamassia (Soprintendenza Speciale pe
 r il Polo Museale Fiorentino, Florenz), Silvia Paoli (Conservatore Civico 
 Archivio Fotografico Castello Sforzesco, Milano), Regine Schallert (Biblio
 theca Hertziana - Max-Planck-Institut für Kunstgeschichte, Rom), Almut Go
 ldhahn (Kunsthistorisches Institut - Max-Planck-Institut, Florenz), Andrea
 s Buchholz (Reconnaissance Collections, RCAHMS, Edinburgh)
CREATED:20180821T084234Z
DESCRIPTION:https://www.uni-marburg.de/de/fotomarburg/aktuelles/termine/ku
 nstschutz-im-zweiten-weltkrieg\nInternational Conference / Workshop:Visual
  Documentations of Art Protection during the Second World War - European P
 icture Libraries in Dialogue / Visuelle Dokumentationen des Kunstschutzes 
 im Zweiten Weltkrieg - Europäische Bildarchive im Dialog
LAST-MODIFIED:20180821T121133Z
LOCATION:Ernst von Hülsen Haus\, Tagungs- und Seminarraum
URL:https://www.uni-marburg.de/de/fotomarburg/aktuelles/termine/kunstschut
 z-im-zweiten-weltkrieg
END:VEVENT
BEGIN:VTIMEZONE
TZID:Europe/Berlin
X-LIC-LOCATION:Europe/Berlin
BEGIN:STANDARD
DTSTART:20091025T020000
TZNAME:CET
TZOFFSETFROM:+0200
TZOFFSETTO:+0100
END:STANDARD
END:VTIMEZONE
END:VCALENDAR
