BEGIN:VCALENDAR
VERSION:2.0
PRODID:-//Plone.org//NONSGML plone.app.event//EN
X-WR-TIMEZONE:Europe/Berlin
BEGIN:VEVENT
SUMMARY:LUDWIG BICKELL - Ausstellung
DTSTART;TZID=Europe/Berlin:20131128T100000
DTEND;TZID=Europe/Berlin:20140316T160000
DTSTAMP:20260424T212919Z
UID:4599b7626955441bbf86c00c0690bc67@www.uni-marburg.de
CREATED:20180820T092656Z
DESCRIPTION:https://www.uni-marburg.de/de/fotomarburg/aktuelles/termine/lu
 dwig-bickell-ausstellung\nFRÜHE FOTOGRAFIE FÜR DIE DENKMALPFLEGE
LAST-MODIFIED:20180820T092911Z
LOCATION:Museum für Kunst und Kulturgeschichte der Philipps-Universität 
 Marburg\, Landgrafenschloss Marburg
URL:https://www.uni-marburg.de/de/fotomarburg/aktuelles/termine/ludwig-bic
 kell-ausstellung
END:VEVENT
BEGIN:VTIMEZONE
TZID:Europe/Berlin
X-LIC-LOCATION:Europe/Berlin
BEGIN:STANDARD
DTSTART:20131027T020000
TZNAME:CET
TZOFFSETFROM:+0200
TZOFFSETTO:+0100
END:STANDARD
END:VTIMEZONE
END:VCALENDAR
