BEGIN:VCALENDAR
VERSION:2.0
PRODID:-//Plone.org//NONSGML plone.app.event//EN
X-WR-TIMEZONE:Europe/Berlin
BEGIN:VEVENT
SUMMARY:Material Images: Photographs and the Album of History
DTSTART;TZID=Europe/Berlin:20150722T190000
DTEND;TZID=Europe/Berlin:20150722T210000
DTSTAMP:20260426T044911Z
UID:eea4086a2b0a419ca680a574d07873ca@www.uni-marburg.de
ATTENDEE;CN="Elizabeth Edwards (Photographic History Research Centre, DeMo
 ntfort, University, Leicester)";ROLE=REQ-PARTICIPANT:Elizabeth Edwards (Ph
 otographic History Research Centre, DeMontfort, University, Leicester)
CREATED:20180712T080357Z
DESCRIPTION:https://www.uni-marburg.de/de/fotomarburg/aktuelles/termine/ma
 terial-images-photographs-and-the-album-of-history\n
LAST-MODIFIED:20180712T080358Z
LOCATION:im Hörsaal des Kunstgeschichtlichen Instituts\, Biegenstr. 11
URL:https://www.uni-marburg.de/de/fotomarburg/aktuelles/termine/material-i
 mages-photographs-and-the-album-of-history
END:VEVENT
BEGIN:VTIMEZONE
TZID:Europe/Berlin
X-LIC-LOCATION:Europe/Berlin
BEGIN:DAYLIGHT
DTSTART:20150329T030000
TZNAME:CEST
TZOFFSETFROM:+0100
TZOFFSETTO:+0200
END:DAYLIGHT
END:VTIMEZONE
END:VCALENDAR
